BEGIN:VCALENDAR
VERSION:2.0
PRODID:-//Ontario Forage Network - ECPv6.15.20//NONSGML v1.0//EN
CALSCALE:GREGORIAN
METHOD:PUBLISH
X-WR-CALNAME:Ontario Forage Network
X-ORIGINAL-URL:https://onforagenetwork.ca
X-WR-CALDESC:Events for Ontario Forage Network
REFRESH-INTERVAL;VALUE=DURATION:PT1H
X-Robots-Tag:noindex
X-PUBLISHED-TTL:PT1H
BEGIN:VTIMEZONE
TZID:America/Toronto
BEGIN:DAYLIGHT
TZOFFSETFROM:-0500
TZOFFSETTO:-0400
TZNAME:EDT
DTSTART:20230312T070000
END:DAYLIGHT
BEGIN:STANDARD
TZOFFSETFROM:-0400
TZOFFSETTO:-0500
TZNAME:EST
DTSTART:20231105T060000
END:STANDARD
BEGIN:DAYLIGHT
TZOFFSETFROM:-0500
TZOFFSETTO:-0400
TZNAME:EDT
DTSTART:20240310T070000
END:DAYLIGHT
BEGIN:STANDARD
TZOFFSETFROM:-0400
TZOFFSETTO:-0500
TZNAME:EST
DTSTART:20241103T060000
END:STANDARD
BEGIN:DAYLIGHT
TZOFFSETFROM:-0500
TZOFFSETTO:-0400
TZNAME:EDT
DTSTART:20250309T070000
END:DAYLIGHT
BEGIN:STANDARD
TZOFFSETFROM:-0400
TZOFFSETTO:-0500
TZNAME:EST
DTSTART:20251102T060000
END:STANDARD
END:VTIMEZONE
BEGIN:VEVENT
DTSTART;TZID=America/Toronto:20240319T100000
DTEND;TZID=America/Toronto:20240319T143000
DTSTAMP:20260419T215518
CREATED:20240221T163058Z
LAST-MODIFIED:20240314T192524Z
UID:39154-1710842400-1710858600@onforagenetwork.ca
SUMMARY:Ontario Biomass Producers Co-op AGM 2024
DESCRIPTION:Join us to learn about about the latest research and market updates. Get a chance to chat with fellow producers. Consider becoming a Director – there are open positions. Attend in-person or online. Lunch is provided for those attending in-person. \n\n\n\nCheck out the AGM Agenda here. \n\n\n\nLocation: Puslinch Hall at Country Heritage Park\, 8560 Tremaine Road\, Milton\, ON \n\n\n\nLearn more about the Ontario Biomass Producers Co-op here.
URL:https://onforagenetwork.ca/event/ontario-biomass-producers-co-op-agm-2024/
CATEGORIES:Ontario Biomass Producers Co-Operative, Inc.
ATTACH;FMTTYPE=image/png:https://onforagenetwork.ca/wp-content/uploads/2024/02/OBPC-AGM-2024.png
END:VEVENT
END:VCALENDAR