BEGIN:VCALENDAR
VERSION:2.0
PRODID:-//Ontario Forage Network - ECPv6.15.20//NONSGML v1.0//EN
CALSCALE:GREGORIAN
METHOD:PUBLISH
X-ORIGINAL-URL:https://onforagenetwork.ca
X-WR-CALDESC:Events for Ontario Forage Network
REFRESH-INTERVAL;VALUE=DURATION:PT1H
X-Robots-Tag:noindex
X-PUBLISHED-TTL:PT1H
BEGIN:VTIMEZONE
TZID:America/Toronto
BEGIN:DAYLIGHT
TZOFFSETFROM:-0500
TZOFFSETTO:-0400
TZNAME:EDT
DTSTART:20210314T070000
END:DAYLIGHT
BEGIN:STANDARD
TZOFFSETFROM:-0400
TZOFFSETTO:-0500
TZNAME:EST
DTSTART:20211107T060000
END:STANDARD
BEGIN:DAYLIGHT
TZOFFSETFROM:-0500
TZOFFSETTO:-0400
TZNAME:EDT
DTSTART:20220313T070000
END:DAYLIGHT
BEGIN:STANDARD
TZOFFSETFROM:-0400
TZOFFSETTO:-0500
TZNAME:EST
DTSTART:20221106T060000
END:STANDARD
BEGIN:DAYLIGHT
TZOFFSETFROM:-0500
TZOFFSETTO:-0400
TZNAME:EDT
DTSTART:20230312T070000
END:DAYLIGHT
BEGIN:STANDARD
TZOFFSETFROM:-0400
TZOFFSETTO:-0500
TZNAME:EST
DTSTART:20231105T060000
END:STANDARD
END:VTIMEZONE
BEGIN:VEVENT
DTSTART;TZID=America/Toronto:20220620T130000
DTEND;TZID=America/Toronto:20220620T150000
DTSTAMP:20260421T204717
CREATED:20220531T175502Z
LAST-MODIFIED:20220627T202017Z
UID:37867-1655730000-1655737200@onforagenetwork.ca
SUMMARY:Making Better Bales
DESCRIPTION:Grey County Agricultural Services is hosting “Making Better Bales” at Valleykirk Farms near Owen Sound on Monday\, June 20th from 1-3 pm. \n\n\n\nThis is a free\, informative event about producing the best quality bales with the fewest baling headaches. \n\n\n\nLearn about cutting time\, baling techniques\, net wrap and twine application\, and machinery set up for successful baling. This event is a spin-off from a winter course planned by Grey Ag Services. It is open to anyone who would like to attend and there is no cost. \n\n\n\nPresentations will be made by: Nathan Ficzere and Alain Gratton of Tama Canada\, and Earthpower Tractor with equipment in the field. \n\n\n\nREGISTER: All are welcome to attend but must pre-register with Grey Ag Services by emailing info@greyagervices.ca or calling 519-986-3756. 
URL:https://onforagenetwork.ca/event/37867/
LOCATION:Valleykirk Farms\, To be shared at time of registration
CATEGORIES:Ontario Forage Council
ATTACH;FMTTYPE=image/png:https://onforagenetwork.ca/wp-content/uploads/2022/05/Making-Better-Bales-Description.png
ORGANIZER;CN="Grey Ag Services":MAILTO:info@greyagservices.ca
END:VEVENT
END:VCALENDAR