BEGIN:VCALENDAR
VERSION:2.0
PRODID:-//Ontario Forage Network - ECPv6.15.20//NONSGML v1.0//EN
CALSCALE:GREGORIAN
METHOD:PUBLISH
X-WR-CALNAME:Ontario Forage Network
X-ORIGINAL-URL:https://onforagenetwork.ca
X-WR-CALDESC:Events for Ontario Forage Network
REFRESH-INTERVAL;VALUE=DURATION:PT1H
X-Robots-Tag:noindex
X-PUBLISHED-TTL:PT1H
BEGIN:VTIMEZONE
TZID:America/Toronto
BEGIN:DAYLIGHT
TZOFFSETFROM:-0500
TZOFFSETTO:-0400
TZNAME:EDT
DTSTART:20220313T070000
END:DAYLIGHT
BEGIN:STANDARD
TZOFFSETFROM:-0400
TZOFFSETTO:-0500
TZNAME:EST
DTSTART:20221106T060000
END:STANDARD
BEGIN:DAYLIGHT
TZOFFSETFROM:-0500
TZOFFSETTO:-0400
TZNAME:EDT
DTSTART:20230312T070000
END:DAYLIGHT
BEGIN:STANDARD
TZOFFSETFROM:-0400
TZOFFSETTO:-0500
TZNAME:EST
DTSTART:20231105T060000
END:STANDARD
BEGIN:DAYLIGHT
TZOFFSETFROM:-0500
TZOFFSETTO:-0400
TZNAME:EDT
DTSTART:20240310T070000
END:DAYLIGHT
BEGIN:STANDARD
TZOFFSETFROM:-0400
TZOFFSETTO:-0500
TZNAME:EST
DTSTART:20241103T060000
END:STANDARD
END:VTIMEZONE
BEGIN:VEVENT
DTSTART;TZID=America/Toronto:20230110T190000
DTEND;TZID=America/Toronto:20230221T213000
DTSTAMP:20260419T170001
CREATED:20220725T175848Z
LAST-MODIFIED:20220725T182927Z
UID:38079-1673377200-1677015000@onforagenetwork.ca
SUMMARY:Advanced Grazing Mentorship - Series 3
DESCRIPTION:Register\n\n\n\n\nThe Ontario Forage Council is providing the provincial delivery of the Advanced Grazing Systems program. The program offers training for producers to gain expertise in rotational grazing. The curriculum is designed to teach farmers key concepts and develop a rotational grazing plan for their operation. In addition to the course content\, the program will create a support network of other grazing producers and provide instructional support resources. The Advanced Grazing Systems program is supported by Farmers for Climate Solutions in partnership with the Canadian Forage and Grassland Association. \n\n\n\nThe program will be delivered in three separate series of seven online sessions; followed by field days in spring/summer 2023 to demonstrate the implementation of systems outlined in the program modules.  By the end of the program\, participants will have completed a personalized grazing plan for their operation that will increase eligibility for funding through Ontario Soil and Crop Association’s Ontario On-Farm Climate Action Fund (OFCAF).  Participants are asked to advise their mentor if they have pre-approved projects through this program.   \n\n\n\nThese sessions will take place on consecutive Tuesdays from January 10 through February 21. You will be forwarded a link one week prior to the first session. Registration deadline is January 7\, 2023
URL:https://onforagenetwork.ca/event/advanced-grazing-mentorship-series-3/
CATEGORIES:Ontario Forage Council
ATTACH;FMTTYPE=image/jpeg:https://onforagenetwork.ca/wp-content/uploads/2022/07/Spring-pasture-Grey.jpg
END:VEVENT
END:VCALENDAR