BEGIN:VCALENDAR
VERSION:2.0
PRODID:-//Ontario Forage Network - ECPv6.15.20//NONSGML v1.0//EN
CALSCALE:GREGORIAN
METHOD:PUBLISH
X-ORIGINAL-URL:https://onforagenetwork.ca
X-WR-CALDESC:Events for Ontario Forage Network
REFRESH-INTERVAL;VALUE=DURATION:PT1H
X-Robots-Tag:noindex
X-PUBLISHED-TTL:PT1H
BEGIN:VTIMEZONE
TZID:America/Toronto
BEGIN:DAYLIGHT
TZOFFSETFROM:-0500
TZOFFSETTO:-0400
TZNAME:EDT
DTSTART:20220313T070000
END:DAYLIGHT
BEGIN:STANDARD
TZOFFSETFROM:-0400
TZOFFSETTO:-0500
TZNAME:EST
DTSTART:20221106T060000
END:STANDARD
BEGIN:DAYLIGHT
TZOFFSETFROM:-0500
TZOFFSETTO:-0400
TZNAME:EDT
DTSTART:20230312T070000
END:DAYLIGHT
BEGIN:STANDARD
TZOFFSETFROM:-0400
TZOFFSETTO:-0500
TZNAME:EST
DTSTART:20231105T060000
END:STANDARD
BEGIN:DAYLIGHT
TZOFFSETFROM:-0500
TZOFFSETTO:-0400
TZNAME:EDT
DTSTART:20240310T070000
END:DAYLIGHT
BEGIN:STANDARD
TZOFFSETFROM:-0400
TZOFFSETTO:-0500
TZNAME:EST
DTSTART:20241103T060000
END:STANDARD
END:VTIMEZONE
BEGIN:VEVENT
DTSTART;TZID=America/Toronto:20230307T200000
DTEND;TZID=America/Toronto:20230309T210000
DTSTAMP:20260419T152407
CREATED:20221209T160837Z
LAST-MODIFIED:20230207T163245Z
UID:38431-1678219200-1678395600@onforagenetwork.ca
SUMMARY:Profitable Pastures 2023
DESCRIPTION:Due to the positive feedback\, the Ontario Forage Council has decided to move forward with Profitable Pastures in a digital format for the foreseeable future.  We are in the final stages of planning for the Profitable Pastures 2023 FREE Webinar Series to be held from 8 – 9 pm EST each evening from March 7-9\, 2023.  Each day will feature a different speaker and topic as outlined below. \n\n\n\n\nMarch 7\, 2023\, 8 – 9 pm EST – 2022 & 2023 Mapleseed Sheep & Beef Pasture Award Recipients\, Asphodel Sheep – Todd Payne and Beef recipient – TBA\n\n\n\nMarch 8\, 2023\, 8 – 9 pm EST – Grazing Mentor Panel – Anita O’Brien\, Birgit Martin\, Dean Cober\n\n\n\nMarch 9\, 2023\, 8 – 9 pm EST – Jim Gerrish
URL:https://onforagenetwork.ca/event/profitable-pastures-2023/
CATEGORIES:Ontario Forage Council
ATTACH;FMTTYPE=image/jpeg:https://onforagenetwork.ca/wp-content/uploads/2022/06/pasture-production-scaled.jpg
END:VEVENT
END:VCALENDAR